BEGIN:VCALENDAR
VERSION:2.0
PRODID:-//Wildtulpe - Mösthinsdorfer Heimatverein e. V. - ECPv6.15.3//NONSGML v1.0//EN
CALSCALE:GREGORIAN
METHOD:PUBLISH
X-ORIGINAL-URL:https://www.wildtulpe.com
X-WR-CALDESC:Veranstaltungen für Wildtulpe - Mösthinsdorfer Heimatverein e. V.
REFRESH-INTERVAL;VALUE=DURATION:PT1H
X-Robots-Tag:noindex
X-PUBLISHED-TTL:PT1H
BEGIN:VTIMEZONE
TZID:Europe/Paris
BEGIN:DAYLIGHT
TZOFFSETFROM:+0100
TZOFFSETTO:+0200
TZNAME:CEST
DTSTART:20260329T010000
END:DAYLIGHT
BEGIN:STANDARD
TZOFFSETFROM:+0200
TZOFFSETTO:+0100
TZNAME:CET
DTSTART:20261025T010000
END:STANDARD
END:VTIMEZONE
BEGIN:VEVENT
DTSTART;TZID=Europe/Paris:20260924T180000
DTEND;TZID=Europe/Paris:20260924T190000
DTSTAMP:20260424T121826
CREATED:20250926T124047Z
LAST-MODIFIED:20250926T124047Z
UID:11800-1790272800-1790276400@www.wildtulpe.com
SUMMARY:Sportgruppe "WildeTulpen 50plus"
DESCRIPTION:Durch Revierpionier entstand die Sportgruppe „WildeTulpen 50plus“. \nJetzt treffen wir uns regelmäßig zum Dehnen\, Ausdauertraining\, Muskelaufbau und Fingerübungen – damit wir fit bleiben.\nUnter Anleitung von Christel Mann und Gudrun Brandl trainieren wir jeden 2. und 4. Donnerstag im Monat um 18:00 Uhr eine Stunde lang. Möchtest du auch gern mitmachen? Dann zieh bequeme Sportkleidung an und komm dazu. \nHerzlich Willkommen und Sport frei! \nDieses Angebot gilt für Vereinsmitglieder.\nJährlicher Mitgliedsbeitrag beträgt aktuell 12\,-€
URL:https://www.wildtulpe.com/veranstaltung/sportgruppe-wildetulpen-50plus-24/
LOCATION:KunstGUT\, Engelsplatz 6\, Petersberg\, Sachsen-Anhalt\, 06193\, Deutschland
CATEGORIES:Bewegung
ATTACH;FMTTYPE=image/jpeg:https://www.wildtulpe.com/files/IMG_2602-scaled.jpg
END:VEVENT
BEGIN:VEVENT
DTSTART;TZID=Europe/Paris:20261001T150000
DTEND;TZID=Europe/Paris:20261001T180000
DTSTAMP:20260424T121826
CREATED:20250926T103507Z
LAST-MODIFIED:20250926T103507Z
UID:11744-1790866800-1790877600@www.wildtulpe.com
SUMMARY:Spielenachmittag
DESCRIPTION:Herzlich willkommen im KunstGUT Mösthinsdorf. Du suchst gemütliche Spielrunde\, Austausch und gute Laune?\nDann komm zu unserem Spielenachmittag für alle Generationen. \nWann: Jeden 1. Donnerstag im Monat\, 15:00 Uhr\nWo: KunstGUT\, Dachgeschoss\, Gutshaus Engelsplatz 6 (Barrierefrei über Lift erreichbar) \nMitbringen: Dein Lieblingsspiel – Rommé\, Mensch ärgere Dich nicht\, Dame\, Monopoly oder jedes andere Spiel deiner Wahl. Wir freuen uns auf deine Spielidee! \nIm gemütlichen Rahmen genießen wir selbstgebackene Torte\, Kaffee oder Tee. Gemeinsam spielen\, lachen und miteinander ins Gespräch kommen – das ist unser Ziel. \nBist du dabei? Wir freuen uns auf dich und auf viele spannende Spielrunden!
URL:https://www.wildtulpe.com/veranstaltung/spielenachmittag-13/
LOCATION:KunstGUT\, Engelsplatz 6\, Petersberg\, Sachsen-Anhalt\, 06193\, Deutschland
CATEGORIES:Geselliger Nachmittag
ATTACH;FMTTYPE=image/jpeg:https://www.wildtulpe.com/files/Spielenachmittag-1.jpg
END:VEVENT
BEGIN:VEVENT
DTSTART;TZID=Europe/Paris:20261008T180000
DTEND;TZID=Europe/Paris:20261008T190000
DTSTAMP:20260424T121826
CREATED:20250926T124150Z
LAST-MODIFIED:20250926T124150Z
UID:11802-1791482400-1791486000@www.wildtulpe.com
SUMMARY:Sportgruppe "WildeTulpen 50plus"
DESCRIPTION:Durch Revierpionier entstand die Sportgruppe „WildeTulpen 50plus“. \nJetzt treffen wir uns regelmäßig zum Dehnen\, Ausdauertraining\, Muskelaufbau und Fingerübungen – damit wir fit bleiben.\nUnter Anleitung von Christel Mann und Gudrun Brandl trainieren wir jeden 2. und 4. Donnerstag im Monat um 18:00 Uhr eine Stunde lang. Möchtest du auch gern mitmachen? Dann zieh bequeme Sportkleidung an und komm dazu. \nHerzlich Willkommen und Sport frei! \nDieses Angebot gilt für Vereinsmitglieder.\nJährlicher Mitgliedsbeitrag beträgt aktuell 12\,-€
URL:https://www.wildtulpe.com/veranstaltung/sportgruppe-wildetulpen-50plus-25/
LOCATION:KunstGUT\, Engelsplatz 6\, Petersberg\, Sachsen-Anhalt\, 06193\, Deutschland
CATEGORIES:Bewegung
ATTACH;FMTTYPE=image/jpeg:https://www.wildtulpe.com/files/IMG_2602-scaled.jpg
END:VEVENT
BEGIN:VEVENT
DTSTART;TZID=Europe/Paris:20261011T160000
DTEND;TZID=Europe/Paris:20261011T183000
DTSTAMP:20260424T121826
CREATED:20250918T120716Z
LAST-MODIFIED:20251103T115153Z
UID:11474-1791734400-1791743400@www.wildtulpe.com
SUMMARY:Paul Bartsch Akustik-Trio - Konzert "Märchen aus kommenden Tagen"
DESCRIPTION:Das Paul Bartsch Akustik-Trio kommt nach Mösthinsdorf! Am 11.Oktober 2026 gastieren die halleschen Musiker mit ihrem Programm „Märchen aus kommenden Tagen“ im Offenen Haus der Begegnung. \nGemeinsam mit seinen langjährigen musikalischen Mitstreitern Sander Lueken (Keyboards\, Gesang) und Thomas Fahnert (Gitarre\, Geige\, Gesang) garniert Paul Bartsch seine optimistische Liedpoesie mit einem kraftvollen Gemisch aus Folk\, Blues\, Rock und Chanson – so entsteht ein unterhaltsames\, mitunter nachdenkliches\, aber stets ermutigendes Vergnügen als Suche nach dem Möglichen in unserer sich wandelnden Welt. \nTräume im Kopf\, Wut im Bauch\, Wärme im Herzen – unter diesem griffigen Motto haben sich der hallesche Liedermacher Paul Bartsch und seine Musiker seit 2003 einen festen Platz in der deutschsprachigen Chanson- und Kleinkunst-Szene gesichert. \nDie im Vorjahr erschienene und mit dem Deutschen Singer/Songwriter-Preis 2024 ausgezeichnete CD „Märchen aus kommenden Tagen“ gibt dem aktuellen Programm des PAUL BARTSCH AKUSTIK-TRIOS den Titel. Und so wird der Generationsgefährte von Gundermann und Wenzel\, der mit den aufmüpfigen Songs der Gruppe Renft aufgewachsen ist\, zum Konzert am 23. September 2025 im Luise-Reuter-Saal Grevesmühlen gewohnt deutliche Worte finden und gemeinsam mit seinen Musikern einen frischen Mix aus Folk\, Rock\, Blues und Chanson präsentieren\, getreu seinem poetisch-optimistischen Credo\, die Welt mit Liedern ein wenig heller\, freundlicher und wärmer zu machen. \nUm 14 Uhr öffnet das Café Wildtulpe für unsere Gäste mit einer Auswahl an selbstgebackenen Torten & Kaffeespezialitäten. \n  \nEine Veranstaltung aus der Reihe “VarieTEE auf dem Lande”.
URL:https://www.wildtulpe.com/veranstaltung/paul-bartsch-akustik-trio-konzert-maerchen-aus-kommenden-tagen/
LOCATION:Offenes Haus der Begegnung\, Bäckergasse 4a\, Petersberg OT Mösthinsdorf\, Sachsen-Anhalt\, 06193\, Deutschland
CATEGORIES:Konzerte
ATTACH;FMTTYPE=image/jpeg:https://www.wildtulpe.com/files/Trio2-SW.jpg
END:VEVENT
BEGIN:VEVENT
DTSTART;TZID=Europe/Paris:20261022T180000
DTEND;TZID=Europe/Paris:20261022T190000
DTSTAMP:20260424T121826
CREATED:20250926T124232Z
LAST-MODIFIED:20250926T124232Z
UID:11804-1792692000-1792695600@www.wildtulpe.com
SUMMARY:Sportgruppe "WildeTulpen 50plus"
DESCRIPTION:Durch Revierpionier entstand die Sportgruppe „WildeTulpen 50plus“. \nJetzt treffen wir uns regelmäßig zum Dehnen\, Ausdauertraining\, Muskelaufbau und Fingerübungen – damit wir fit bleiben.\nUnter Anleitung von Christel Mann und Gudrun Brandl trainieren wir jeden 2. und 4. Donnerstag im Monat um 18:00 Uhr eine Stunde lang. Möchtest du auch gern mitmachen? Dann zieh bequeme Sportkleidung an und komm dazu. \nHerzlich Willkommen und Sport frei! \nDieses Angebot gilt für Vereinsmitglieder.\nJährlicher Mitgliedsbeitrag beträgt aktuell 12\,-€
URL:https://www.wildtulpe.com/veranstaltung/sportgruppe-wildetulpen-50plus-26/
LOCATION:KunstGUT\, Engelsplatz 6\, Petersberg\, Sachsen-Anhalt\, 06193\, Deutschland
CATEGORIES:Bewegung
ATTACH;FMTTYPE=image/jpeg:https://www.wildtulpe.com/files/IMG_2602-scaled.jpg
END:VEVENT
BEGIN:VEVENT
DTSTART;TZID=Europe/Paris:20261026T183000
DTEND;TZID=Europe/Paris:20261026T203000
DTSTAMP:20260424T121826
CREATED:20260415T113706Z
LAST-MODIFIED:20260415T181358Z
UID:13139-1793039400-1793046600@www.wildtulpe.com
SUMMARY:Ein letztes Mal - Peter Orloff & der Schwarzmeer Kosaken-Chor
DESCRIPTION:Ein letztes Mal – Peter Orloff & der Schwarzmeer Kosaken-Chor \nDie Abschiedstournee des Schwarzmeer Kosaken-Chores unter Leitung von Peter Orloff übertrifft alle noch so großen Erwartungen. Fast überall ausverkaufte Konzerte und Zusatzkonzerte. Die Konzertbesucher sind begeistert\, aber auch sehr traurig! Aufgrund unzähliger Anfragen\, die unbedingt noch einmal Peter Orloff mit seinem grandiosen Ensemble erleben möchten\, findet im Rahmen sorgfältig ausgewählter Zusatztermine am Montag\, 26.Oktober 2026 um 18:30 Uhr in der Rast- und Konzertkirche Mösthinsdorf ein festliches Abschiedskonzert mit Peter Orloff & dem Schwarzmeer Kosaken-Chor statt.  \nPeter Orloff\, Enkel eines Zarengenerals\, ist auch als Schlagersänger\, Komponist und Textdicher äußerst erfolgreich und hat mit seinen Songs „Du“ (Peter Maffay)\, „Der Junge mit der Mundharmonika“ und „Der kleine Prinz“ (Bernd Clüver) sowie “Ein Mädchen für immer“ (Peter Orloff) vier Titel unter den erfolgreichsten deutschen Hits aller Zeiten. Als Sänger war er mit bisher 19 Veröffentlichungen von 1967 – 2026 über einen Zeitraum von rekordverdächtigen 59 Jahren in den offiziellen deutschen Verkaufs-Charts. Und gerade kürzlich und dazu mit einer Lifetime-Bestplatzierung im Februar 2026 auch mit seinem aktuellen Album „Triumph einer Legende“ mit dem Schwarzmeer Kosaken-Chor. Als Sänger und Komponist war er im Jahr 2024 mit seinem Song „Du“ Platz 1 der offiziellen YouTube-Charts. Als Textdichter hatte er 2025 mit „Schau mal herein“ gesungen von Helene Fischer und Florian Silbereisen den deutschen Hit des Jahres. Und seit Herbst 2025 ist er derzeit mit seinem Ensemble auf seiner Abschiedstournee\, die im April 2026 ausgezeichnet wurde als „Tournee des Jahres!“ Der Dschungel-Prinz 2019 und laut BILD „Dschungelkönig der Herzen“\, meist gegoogelter Mann Deutschlands und ältester „Ninja Warrior“ Teilnehmer aller Zeiten weltweit ist auch mit 82 Jahren noch immer auf der Überholspur des Lebens\, topfit und sprüht vor Energie!  \nSein Ensemble besteht aus einigen der größten Opernstars und Instrumentalvirtuosen aus Russland\, Weißrussland und der Ukraine\, die unter der Führung von Peter Orloff\, der auch selber als Solist mehrfach brilliert\, in herzlichem Einvernehmen gemeinsam musizieren. Das Konzert ist eine Reise durch die wunderbare Welt des alten Russland mit Liedern\, Legenden\, Geschichten und Balladen\, die Ruhm und Größe vergangener Tage in neuem Glanz erstrahlen lassen\, ein Feuerwerk der Emotionen! Zu den bekannten Klassikern wie „Abendglocken“\, „Die zwölf Räuber“\, „Das einsame Glöckchen“\, „Stenka Rasin“ oder „Kalinka“ und Klassikern wie dem „Gefangenenchor“\, „Ave Maria“ und „Nessun Dorma“ kommen zahlreiche weitere neu einstudierte Highlights.  \nEin letzten Mal in Mösthinsdorf am 26.Oktober 2026 werden Peter Orloff & der Schwarzmeer Kosaken-Chor die Konzertbesucher in eine andere Welt\, in eine andere Zeit entführen und zwei Stunden lang faszinieren. Nicht wie eine Kerze langsam erlöschen\, sondern wie ein Feuerwerk noch einmal hell aufleuchten und alles zeigen\, was dieses großartige Ensemble in den vergangenen Jahrzehnten zu einer solchen Legende hat werden lassen!  \nFoto: Klaus Manns
URL:https://www.wildtulpe.com/veranstaltung/peter-orloff-schwarzmeer-kosaken-chor-abschiedstournee/
LOCATION:Kirche Mösthinsdorf\, Kirchplatz\, Mösthinsdorf\, Sachsen-Anhalt\, 06193\, Deutschland
CATEGORIES:Konzerte
ATTACH;FMTTYPE=image/jpeg:https://www.wildtulpe.com/files/Kosaken.jpg
END:VEVENT
BEGIN:VEVENT
DTSTART;TZID=Europe/Paris:20261104T140000
DTEND;TZID=Europe/Paris:20261118T160000
DTSTAMP:20260424T121826
CREATED:20260113T135543Z
LAST-MODIFIED:20260317T111713Z
UID:12689-1793800800-1795017600@www.wildtulpe.com
SUMMARY:Gesundheitsvortrag "Chronische Schmerzen"
DESCRIPTION:Ein  Jeder hat im Laufe seines Lebens schon die Erfahrungen mit Schmerzen gemacht und gelernt damit umzugehen. Schwierig ist die Situation dann\, wenn chronische Schmerzen die Lebensqualität massiv beeinflussen. \nWir möchten Ihnen Alternativen aufzeigen\, wie Sie vielleicht besser mit dem Schmerz umgehen und gegebenenfalls den Schmerzmittelgebrauch reduzieren können. \nDa nur begrenzt Plätze zur Verfügung stehen\, bitte ich Sie sich vorher anzumelden.\nTelefon 0170 8270057 \nBeste Grüße\nIhre Bianca Reuter\nNetzwerkkoordinatorin KunstGUT Mösthinsdorf
URL:https://www.wildtulpe.com/veranstaltung/gesundheitsvortrag-chronische-schmerzen/
LOCATION:KunstGUT\, Engelsplatz 6\, Petersberg\, Sachsen-Anhalt\, 06193\, Deutschland
CATEGORIES:Vortrag / Lesung
ATTACH;FMTTYPE=image/jpeg:https://www.wildtulpe.com/files/Weiss-Modern-Informativ-Huebsch-Kinder-Yoga-Sport-Kurs-Instagram-Post-3.jpg
END:VEVENT
BEGIN:VEVENT
DTSTART;TZID=Europe/Paris:20261105T150000
DTEND;TZID=Europe/Paris:20261105T180000
DTSTAMP:20260424T121826
CREATED:20250926T103548Z
LAST-MODIFIED:20250926T103548Z
UID:11746-1793890800-1793901600@www.wildtulpe.com
SUMMARY:Spielenachmittag
DESCRIPTION:Herzlich willkommen im KunstGUT Mösthinsdorf. Du suchst gemütliche Spielrunde\, Austausch und gute Laune?\nDann komm zu unserem Spielenachmittag für alle Generationen. \nWann: Jeden 1. Donnerstag im Monat\, 15:00 Uhr\nWo: KunstGUT\, Dachgeschoss\, Gutshaus Engelsplatz 6 (Barrierefrei über Lift erreichbar) \nMitbringen: Dein Lieblingsspiel – Rommé\, Mensch ärgere Dich nicht\, Dame\, Monopoly oder jedes andere Spiel deiner Wahl. Wir freuen uns auf deine Spielidee! \nIm gemütlichen Rahmen genießen wir selbstgebackene Torte\, Kaffee oder Tee. Gemeinsam spielen\, lachen und miteinander ins Gespräch kommen – das ist unser Ziel. \nBist du dabei? Wir freuen uns auf dich und auf viele spannende Spielrunden!
URL:https://www.wildtulpe.com/veranstaltung/spielenachmittag-14/
LOCATION:KunstGUT\, Engelsplatz 6\, Petersberg\, Sachsen-Anhalt\, 06193\, Deutschland
CATEGORIES:Geselliger Nachmittag
ATTACH;FMTTYPE=image/jpeg:https://www.wildtulpe.com/files/Spielenachmittag-1.jpg
END:VEVENT
BEGIN:VEVENT
DTSTART;TZID=Europe/Paris:20261108T160000
DTEND;TZID=Europe/Paris:20261108T173000
DTSTAMP:20260424T121826
CREATED:20251022T065239Z
LAST-MODIFIED:20251103T115230Z
UID:12193-1794153600-1794159000@www.wildtulpe.com
SUMMARY:Die deutsche Sprache ist ein Witz
DESCRIPTION:Die deutsche Sprache ist ein Witz\nMr. Speedfinger & Ulf Annel vom Kabarett „DIE ARCHE“/Erfurt\n  \nManche Leute nehmen sie nur ungern in den Mund\, unsere Sprache. Aber die steckt voller amüsanter Überraschungen. \nDer Erfurter Kabarettist Ulf Annel meint\, die deutsche Sprache sei ein Witz. Schon über einzelne Buchstaben könne man sich ausschütten vor Lachen. \nDer „vollinhaltlich“ unterhaltsame Abend entführt auf die Wortspielwiese\, wo ein einziger Buchstabe die Welt verändern kann. Schon so manches Publikum wurde verführt\, wieder Freude an der Muttersprache unseres Vaterlands zu haben. \nMit von der Partie – oder heißt es Party? – ist der Pianist Mr. Speedfinger\, Jürgen „Atze“ Adlung\, ein Weltrekordler an den Tasten. \n  \nAb 14:00 Uhr öffnet das Café Wildtulpe mit selbstgebackenen Torten und Kaffeespezialitäten.\n  \n  \nEine Veranstaltung aus der Reihe “VarieTEE auf dem Lande”. \n 
URL:https://www.wildtulpe.com/veranstaltung/die-deutsche-sprache-ist-ein-witz/
LOCATION:Offenes Haus der Begegnung\, Bäckergasse 4a\, Petersberg OT Mösthinsdorf\, Sachsen-Anhalt\, 06193\, Deutschland
CATEGORIES:Kabarett
ATTACH;FMTTYPE=image/jpeg:https://www.wildtulpe.com/files/atze-ulf-foto5.jpg
ORGANIZER;CN="Wildtulpe - M%C3%B6sthinsdorfer Heimatverein e.V.":MAILTO:kontakt@wildtulpe.com
END:VEVENT
BEGIN:VEVENT
DTSTART;TZID=Europe/Paris:20261112T180000
DTEND;TZID=Europe/Paris:20261112T190000
DTSTAMP:20260424T121826
CREATED:20250926T124314Z
LAST-MODIFIED:20250926T124314Z
UID:11806-1794506400-1794510000@www.wildtulpe.com
SUMMARY:Sportgruppe "WildeTulpen 50plus"
DESCRIPTION:Durch Revierpionier entstand die Sportgruppe „WildeTulpen 50plus“. \nJetzt treffen wir uns regelmäßig zum Dehnen\, Ausdauertraining\, Muskelaufbau und Fingerübungen – damit wir fit bleiben.\nUnter Anleitung von Christel Mann und Gudrun Brandl trainieren wir jeden 2. und 4. Donnerstag im Monat um 18:00 Uhr eine Stunde lang. Möchtest du auch gern mitmachen? Dann zieh bequeme Sportkleidung an und komm dazu. \nHerzlich Willkommen und Sport frei! \nDieses Angebot gilt für Vereinsmitglieder.\nJährlicher Mitgliedsbeitrag beträgt aktuell 12\,-€
URL:https://www.wildtulpe.com/veranstaltung/sportgruppe-wildetulpen-50plus-27/
LOCATION:KunstGUT\, Engelsplatz 6\, Petersberg\, Sachsen-Anhalt\, 06193\, Deutschland
CATEGORIES:Bewegung
ATTACH;FMTTYPE=image/jpeg:https://www.wildtulpe.com/files/IMG_2602-scaled.jpg
END:VEVENT
BEGIN:VEVENT
DTSTART;TZID=Europe/Paris:20261126T180000
DTEND;TZID=Europe/Paris:20261126T190000
DTSTAMP:20260424T121826
CREATED:20250926T124408Z
LAST-MODIFIED:20250926T124408Z
UID:11808-1795716000-1795719600@www.wildtulpe.com
SUMMARY:Sportgruppe "WildeTulpen 50plus"
DESCRIPTION:Durch Revierpionier entstand die Sportgruppe „WildeTulpen 50plus“. \nJetzt treffen wir uns regelmäßig zum Dehnen\, Ausdauertraining\, Muskelaufbau und Fingerübungen – damit wir fit bleiben.\nUnter Anleitung von Christel Mann und Gudrun Brandl trainieren wir jeden 2. und 4. Donnerstag im Monat um 18:00 Uhr eine Stunde lang. Möchtest du auch gern mitmachen? Dann zieh bequeme Sportkleidung an und komm dazu. \nHerzlich Willkommen und Sport frei! \nDieses Angebot gilt für Vereinsmitglieder.\nJährlicher Mitgliedsbeitrag beträgt aktuell 12\,-€
URL:https://www.wildtulpe.com/veranstaltung/sportgruppe-wildetulpen-50plus-28/
LOCATION:KunstGUT\, Engelsplatz 6\, Petersberg\, Sachsen-Anhalt\, 06193\, Deutschland
CATEGORIES:Bewegung
ATTACH;FMTTYPE=image/jpeg:https://www.wildtulpe.com/files/IMG_2602-scaled.jpg
END:VEVENT
BEGIN:VEVENT
DTSTART;TZID=Europe/Paris:20261203T150000
DTEND;TZID=Europe/Paris:20261203T180000
DTSTAMP:20260424T121826
CREATED:20250926T103628Z
LAST-MODIFIED:20250926T103628Z
UID:11748-1796310000-1796320800@www.wildtulpe.com
SUMMARY:Spielenachmittag
DESCRIPTION:Herzlich willkommen im KunstGUT Mösthinsdorf. Du suchst gemütliche Spielrunde\, Austausch und gute Laune?\nDann komm zu unserem Spielenachmittag für alle Generationen. \nWann: Jeden 1. Donnerstag im Monat\, 15:00 Uhr\nWo: KunstGUT\, Dachgeschoss\, Gutshaus Engelsplatz 6 (Barrierefrei über Lift erreichbar) \nMitbringen: Dein Lieblingsspiel – Rommé\, Mensch ärgere Dich nicht\, Dame\, Monopoly oder jedes andere Spiel deiner Wahl. Wir freuen uns auf deine Spielidee! \nIm gemütlichen Rahmen genießen wir selbstgebackene Torte\, Kaffee oder Tee. Gemeinsam spielen\, lachen und miteinander ins Gespräch kommen – das ist unser Ziel. \nBist du dabei? Wir freuen uns auf dich und auf viele spannende Spielrunden!
URL:https://www.wildtulpe.com/veranstaltung/spielenachmittag-15/
LOCATION:KunstGUT\, Engelsplatz 6\, Petersberg\, Sachsen-Anhalt\, 06193\, Deutschland
CATEGORIES:Geselliger Nachmittag
ATTACH;FMTTYPE=image/jpeg:https://www.wildtulpe.com/files/Spielenachmittag-1.jpg
END:VEVENT
BEGIN:VEVENT
DTSTART;TZID=Europe/Paris:20261210T180000
DTEND;TZID=Europe/Paris:20261210T190000
DTSTAMP:20260424T121826
CREATED:20250926T124457Z
LAST-MODIFIED:20250926T124457Z
UID:11810-1796925600-1796929200@www.wildtulpe.com
SUMMARY:Sportgruppe "WildeTulpen 50plus"
DESCRIPTION:Durch Revierpionier entstand die Sportgruppe „WildeTulpen 50plus“. \nJetzt treffen wir uns regelmäßig zum Dehnen\, Ausdauertraining\, Muskelaufbau und Fingerübungen – damit wir fit bleiben.\nUnter Anleitung von Christel Mann und Gudrun Brandl trainieren wir jeden 2. und 4. Donnerstag im Monat um 18:00 Uhr eine Stunde lang. Möchtest du auch gern mitmachen? Dann zieh bequeme Sportkleidung an und komm dazu. \nHerzlich Willkommen und Sport frei! \nDieses Angebot gilt für Vereinsmitglieder.\nJährlicher Mitgliedsbeitrag beträgt aktuell 12\,-€
URL:https://www.wildtulpe.com/veranstaltung/sportgruppe-wildetulpen-50plus-29/
LOCATION:KunstGUT\, Engelsplatz 6\, Petersberg\, Sachsen-Anhalt\, 06193\, Deutschland
CATEGORIES:Bewegung
ATTACH;FMTTYPE=image/jpeg:https://www.wildtulpe.com/files/IMG_2602-scaled.jpg
END:VEVENT
BEGIN:VEVENT
DTSTART;TZID=Europe/Paris:20261212T140000
DTEND;TZID=Europe/Paris:20261212T203000
DTSTAMP:20260424T121826
CREATED:20250917T170154Z
LAST-MODIFIED:20251103T115738Z
UID:11436-1797084000-1797107400@www.wildtulpe.com
SUMMARY:Weihnachtsfeier mit dem Weihnachtsengel Ramona
DESCRIPTION:Herzlich willkommen zu unserer Weihnachtsfeier am 12. Dezember 2026 im Offenen Haus der Begegnung Mösthinsdorf!\nWir starten um 14 Uhr mit einem Begrüßungssekt\, gefolgt von einem Stück selbstgebackener Torte und Kaffee.\nDanach erwartet Sie ein humorvolles Programm mit dem Weihnachtsengel Ramona. \nRamona Schneider – jetzt wird’s heiter!\n \nVerführerisch schillernd\, wie ein Vöglein trällernd\, wild\, verrückt vom Leben verzückt\, komisch\, herzlich\, brillant – und musikalisch obendrein. Lassen Sie sich verzaubern von Herzverstand und machen uns gerne alle miteinander bekannt. Ramona ist für die Bühne geboren\, verliert ihren blitzkomischen Situationshumor seit Jahrzehnten nicht. Sie lässt es fröhlich krachen und freut sich\, wenn die Menschen lachen. \nAls Abschluss des Tages genießen wir gemeinsam einen kleinen Abendimbiss.\nPro Person 30\,- € inkl. Begrüßungssekt\, 1 Stück Torte\, Kaffee\, Abendimbiss und Programm. \nWir freuen uns auf einen beschwingten\, besinnlichen Nachmittag mit Ihnen!\nDa nur begrenzt Plätze vorhanden sind\, empfehlen wir eine frühzeitige Kartenbestellung.\n  \n  \nEine Veranstaltung aus der Reihe “VarieTEE auf dem Lande”.
URL:https://www.wildtulpe.com/veranstaltung/weihnachtsfeier-mit-dem-weihnachtsengel-ramona/
LOCATION:Offenes Haus der Begegnung\, Bäckergasse 4a\, Petersberg OT Mösthinsdorf\, Sachsen-Anhalt\, 06193\, Deutschland
CATEGORIES:Geselliger Nachmittag
ATTACH;FMTTYPE=image/jpeg:https://www.wildtulpe.com/files/Ramona_Schneider_Weihnachtsengel.jpg
END:VEVENT
BEGIN:VEVENT
DTSTART;TZID=Europe/Paris:20261230T170000
DTEND;TZID=Europe/Paris:20261230T200000
DTSTAMP:20260424T121826
CREATED:20251107T093531Z
LAST-MODIFIED:20251107T093531Z
UID:12413-1798650000-1798660800@www.wildtulpe.com
SUMMARY:Blutspende-Aktion
DESCRIPTION:Engagieren Sie sich für andere Menschen mit einer Blutspende beim DRK – noch im alten Jahr eine gute Tat vollbringen! \nKommen Sie zur Blutspende-Aktion im Offenen Haus der Begegnung Mösthinsdorf von 17:00 – 20:00 Uhr steht Ihnen das\nkompetente Team des Blutspendedienstes vom Deutschen Roten Kreuz zur Verfügung. \nBLUT ZUM LEBEN \nEs gibt immer jemanden für den man alles tun würde\, für den man durchs Feuer geht. Für diesen Menschen würde man ohne Zweifel Blut spenden. \nGemeinsam sind wir dafür verantwortlich\, dass immer genügend Blutpräparate auf Lager sind\, um\nKrankenhäuser zu versorgen und Medikamente herzustellen. Jeden Tag werden in Deutschland 15.000 Blutspenden benötigt.\nDas sind elf Spenden pro Minute. \nAlle Blutspender:innen können sich bei einem kleinen Imbiss stärken.
URL:https://www.wildtulpe.com/veranstaltung/blutspende-aktion-5/
LOCATION:Offenes Haus der Begegnung\, Bäckergasse 4a\, Petersberg OT Mösthinsdorf\, Sachsen-Anhalt\, 06193\, Deutschland
CATEGORIES:Blutspende
ATTACH;FMTTYPE=image/jpeg:https://www.wildtulpe.com/files/Blutspende-1.jpg
ORGANIZER;CN="Wildtulpe - M%C3%B6sthinsdorfer Heimatverein e.V.":MAILTO:kontakt@wildtulpe.com
END:VEVENT
END:VCALENDAR